BEGIN:VCALENDAR
VERSION:2.0
PRODID:-//ChamberMaster//Event Calendar 2.0//EN
METHOD:PUBLISH
X-PUBLISHED-TTL:P3D
REFRESH-INTERVAL:P3D
CALSCALE:GREGORIAN
BEGIN:VEVENT
DTSTART;VALUE=DATE:19970915
DTEND;VALUE=DATE:19970916
TRANSP:TRANSPARENT
X-MICROSOFT-CDO-ALLDAYEVENT:TRUE
SUMMARY:Governmental Affairs Breakfast-9/15/97
DESCRIPTION:
X-ALT-DESC;FMTTYPE=text/html:
LOCATION:Beechwood Inn
UID:e.1887.36
SEQUENCE:3
DTSTAMP:20260424T052844Z
URL:http://events.westcoastchamber.org/events/details/governmental-affairs-breakfast-9-15-97-09-15-1997-36
END:VEVENT

END:VCALENDAR
