BEGIN:VCALENDAR
VERSION:2.0
PRODID:-//ChamberMaster//Event Calendar 2.0//EN
METHOD:PUBLISH
X-PUBLISHED-TTL:P3D
REFRESH-INTERVAL:P3D
CALSCALE:GREGORIAN
BEGIN:VEVENT
DTSTART;VALUE=DATE:19970616
DTEND;VALUE=DATE:19970617
TRANSP:TRANSPARENT
X-MICROSOFT-CDO-ALLDAYEVENT:TRUE
SUMMARY:Governmental Affairs Breakfast-6/16/97
DESCRIPTION:
X-ALT-DESC;FMTTYPE=text/html:
LOCATION:Beechwood Inn
UID:e.1887.23
SEQUENCE:3
DTSTAMP:20260424T101200Z
URL:http://events.westcoastchamber.org/events/details/governmental-affairs-breakfast-6-16-97-06-16-1997-23
END:VEVENT

END:VCALENDAR
