BEGIN:VCALENDAR
VERSION:2.0
PRODID:-//ChamberMaster//Event Calendar 2.0//EN
METHOD:PUBLISH
X-PUBLISHED-TTL:P3D
REFRESH-INTERVAL:P3D
CALSCALE:GREGORIAN
BEGIN:VEVENT
DTSTART;VALUE=DATE:19980518
DTEND;VALUE=DATE:19980519
TRANSP:TRANSPARENT
X-MICROSOFT-CDO-ALLDAYEVENT:TRUE
SUMMARY:Governmental Affairs Breakfast-5/18/98
DESCRIPTION:
X-ALT-DESC;FMTTYPE=text/html:
LOCATION:Beechwood Inn
UID:e.1887.93
SEQUENCE:3
DTSTAMP:20260423T171719Z
URL:http://events.westcoastchamber.org/events/details/governmental-affairs-breakfast-5-18-98-05-18-1998-93
END:VEVENT

END:VCALENDAR
