BEGIN:VCALENDAR
VERSION:2.0
PRODID:-//ChamberMaster//Event Calendar 2.0//EN
METHOD:PUBLISH
X-PUBLISHED-TTL:P3D
REFRESH-INTERVAL:P3D
CALSCALE:GREGORIAN
BEGIN:VEVENT
DTSTART;VALUE=DATE:19990315
DTEND;VALUE=DATE:19990316
TRANSP:TRANSPARENT
X-MICROSOFT-CDO-ALLDAYEVENT:TRUE
SUMMARY:Governmental Affairs Breakfast
DESCRIPTION:Join us for an informal breakfast with our elected state and federal legislators.  Learn the latest on legislation important to the business community.  Ample time is provided for questions and answers.  Cost is $10.00.
X-ALT-DESC;FMTTYPE=text/html:Join us for an informal breakfast with our elected state and federal legislators.  Learn the latest on legislation important to the business community.  Ample time is provided for questions and answers.  Cost is $10.00.
LOCATION:Beechwood Inn
UID:e.1887.248
SEQUENCE:3
DTSTAMP:20260421T151405Z
URL:http://events.westcoastchamber.org/events/details/governmental-affairs-breakfast-03-15-1999-248
END:VEVENT

END:VCALENDAR
