BEGIN:VCALENDAR
VERSION:2.0
PRODID:-//ChamberMaster//Event Calendar 2.0//EN
METHOD:PUBLISH
X-PUBLISHED-TTL:P3D
REFRESH-INTERVAL:P3D
CALSCALE:GREGORIAN
BEGIN:VEVENT
DTSTART;VALUE=DATE:19970625
DTEND;VALUE=DATE:19970626
TRANSP:TRANSPARENT
X-MICROSOFT-CDO-ALLDAYEVENT:TRUE
SUMMARY:Golf Outing-Clearbrook 6/25/97
DESCRIPTION:
X-ALT-DESC;FMTTYPE=text/html:
LOCATION:Clearbrook Golf Club
UID:e.1887.12
SEQUENCE:3
DTSTAMP:20260424T101033Z
URL:http://events.westcoastchamber.org/events/details/golf-outing-clearbrook-6-25-97-06-25-1997-12
END:VEVENT

END:VCALENDAR
