BEGIN:VCALENDAR
VERSION:2.0
PRODID:-//ChamberMaster//Event Calendar 2.0//EN
METHOD:PUBLISH
X-PUBLISHED-TTL:P3D
REFRESH-INTERVAL:P3D
CALSCALE:GREGORIAN
BEGIN:VEVENT
DTSTART;VALUE=DATE:19980602
DTEND;VALUE=DATE:19980625
TRANSP:TRANSPARENT
X-MICROSOFT-CDO-ALLDAYEVENT:TRUE
SUMMARY:Golf - Holland Country Club 1998
DESCRIPTION:
X-ALT-DESC;FMTTYPE=text/html:
LOCATION:Holland Country Club
UID:e.1887.98
SEQUENCE:3
DTSTAMP:20260423T160422Z
URL:http://events.westcoastchamber.org/events/details/golf-holland-country-club-1998-06-02-1998-98
END:VEVENT

END:VCALENDAR
