BEGIN:VCALENDAR
VERSION:2.0
PRODID:-//ChamberMaster//Event Calendar 2.0//EN
METHOD:PUBLISH
X-PUBLISHED-TTL:P3D
REFRESH-INTERVAL:P3D
CALSCALE:GREGORIAN
BEGIN:VEVENT
DTSTART;VALUE=DATE:19990213
DTEND;VALUE=DATE:19990214
TRANSP:TRANSPARENT
X-MICROSOFT-CDO-ALLDAYEVENT:TRUE
SUMMARY:Gallery Stroll
DESCRIPTION:Take a romantic stroll with your Valentine through the many gallerieis in Downtown Holland.
X-ALT-DESC;FMTTYPE=text/html:Take a romantic stroll with your Valentine through the many gallerieis in Downtown Holland.
LOCATION:Downtown Holland
UID:e.1887.300
SEQUENCE:3
DTSTAMP:20260421T163037Z
URL:http://events.westcoastchamber.org/events/details/gallery-stroll-02-13-1999-300
END:VEVENT

END:VCALENDAR
