BEGIN:VCALENDAR
VERSION:2.0
PRODID:-//ChamberMaster//Event Calendar 2.0//EN
METHOD:PUBLISH
X-PUBLISHED-TTL:P3D
REFRESH-INTERVAL:P3D
CALSCALE:GREGORIAN
BEGIN:VEVENT
DTSTART;VALUE=DATE:19971208
DTEND;VALUE=DATE:19971209
TRANSP:TRANSPARENT
X-MICROSOFT-CDO-ALLDAYEVENT:TRUE
SUMMARY:Former Presidents & Chairpersons Luncheon
DESCRIPTION:
X-ALT-DESC;FMTTYPE=text/html:
LOCATION:Holland Country Club
UID:e.1887.56
SEQUENCE:3
DTSTAMP:20260424T005630Z
URL:http://events.westcoastchamber.org/events/details/former-presidents-chairpersons-luncheon-12-08-1997-56
END:VEVENT

END:VCALENDAR
