BEGIN:VCALENDAR
VERSION:2.0
PRODID:-//ChamberMaster//Event Calendar 2.0//EN
METHOD:PUBLISH
X-PUBLISHED-TTL:P3D
REFRESH-INTERVAL:P3D
CALSCALE:GREGORIAN
BEGIN:VEVENT
DTSTART;VALUE=DATE:19981204
DTEND;VALUE=DATE:19981205
TRANSP:TRANSPARENT
X-MICROSOFT-CDO-ALLDAYEVENT:TRUE
SUMMARY:''First Friday'' Free Family Workshop
DESCRIPTION:This free workshop promotes creative experiences with different media.  Children must be accompanied by an adult.  For additional information call 616-396-3278.
X-ALT-DESC;FMTTYPE=text/html:This free workshop promotes creative experiences with different media.  Children must be accompanied by an adult.  For additional information call 616-396-3278.
LOCATION:Holland Area Arts Council
UID:e.1887.202
SEQUENCE:3
DTSTAMP:20260421T191204Z
URL:http://events.westcoastchamber.org/events/details/first-friday-free-family-workshop-12-04-1998-202
END:VEVENT

END:VCALENDAR
