BEGIN:VCALENDAR
VERSION:2.0
PRODID:-//ChamberMaster//Event Calendar 2.0//EN
METHOD:PUBLISH
X-PUBLISHED-TTL:P3D
REFRESH-INTERVAL:P3D
CALSCALE:GREGORIAN
BEGIN:VEVENT
DTSTART;VALUE=DATE:19990501
DTEND;VALUE=DATE:19990502
TRANSP:TRANSPARENT
X-MICROSOFT-CDO-ALLDAYEVENT:TRUE
SUMMARY:Fiesta
DESCRIPTION:For more information contact Tino Reyes at 616-399-4077.
X-ALT-DESC;FMTTYPE=text/html:For more information contact Tino Reyes at 616-399-4077.
LOCATION:Holland Civic Center
UID:e.1887.308
SEQUENCE:3
DTSTAMP:20260421T082209Z
URL:http://events.westcoastchamber.org/events/details/fiesta-05-01-1999-308
END:VEVENT

END:VCALENDAR
