BEGIN:VCALENDAR
VERSION:2.0
PRODID:-//ChamberMaster//Event Calendar 2.0//EN
METHOD:PUBLISH
X-PUBLISHED-TTL:P3D
REFRESH-INTERVAL:P3D
CALSCALE:GREGORIAN
BEGIN:VEVENT
DTSTART;VALUE=DATE:19970428
DTEND;VALUE=DATE:19970429
TRANSP:TRANSPARENT
X-MICROSOFT-CDO-ALLDAYEVENT:TRUE
SUMMARY:Economic Security 2000-Sam Beard-4/28/97
DESCRIPTION:
X-ALT-DESC;FMTTYPE=text/html:
LOCATION:Amway Grand Plaza
UID:e.1887.6
SEQUENCE:3
DTSTAMP:20260424T125842Z
URL:http://events.westcoastchamber.org/events/details/economic-security-2000-sam-beard-4-28-97-04-28-1997-6
END:VEVENT

END:VCALENDAR
