BEGIN:VCALENDAR
VERSION:2.0
PRODID:-//ChamberMaster//Event Calendar 2.0//EN
METHOD:PUBLISH
X-PUBLISHED-TTL:P3D
REFRESH-INTERVAL:P3D
CALSCALE:GREGORIAN
BEGIN:VEVENT
DTSTART;VALUE=DATE:19980407
DTEND;VALUE=DATE:19980408
TRANSP:TRANSPARENT
X-MICROSOFT-CDO-ALLDAYEVENT:TRUE
SUMMARY:Early Bird Breakfast - 4/7/98
DESCRIPTION:
X-ALT-DESC;FMTTYPE=text/html:
LOCATION:Maas Center\, Hope College
UID:e.1887.88
SEQUENCE:3
DTSTAMP:20260423T184145Z
URL:http://events.westcoastchamber.org/events/details/early-bird-breakfast-4-7-98-04-07-1998-88
END:VEVENT

END:VCALENDAR
