BEGIN:VCALENDAR
VERSION:2.0
PRODID:-//ChamberMaster//Event Calendar 2.0//EN
METHOD:PUBLISH
X-PUBLISHED-TTL:P3D
REFRESH-INTERVAL:P3D
CALSCALE:GREGORIAN
BEGIN:VEVENT
DTSTART;VALUE=DATE:19971104
DTEND;VALUE=DATE:19971105
TRANSP:TRANSPARENT
X-MICROSOFT-CDO-ALLDAYEVENT:TRUE
SUMMARY:Early Bird Breakfast-11/4/97
DESCRIPTION:
X-ALT-DESC;FMTTYPE=text/html:
LOCATION:
UID:e.1887.47
SEQUENCE:3
DTSTAMP:20260424T022736Z
URL:http://events.westcoastchamber.org/events/details/early-bird-breakfast-11-4-97-11-04-1997-47
END:VEVENT

END:VCALENDAR
