BEGIN:VCALENDAR
VERSION:2.0
PRODID:-//ChamberMaster//Event Calendar 2.0//EN
METHOD:PUBLISH
X-PUBLISHED-TTL:P3D
REFRESH-INTERVAL:P3D
CALSCALE:GREGORIAN
BEGIN:VEVENT
DTSTART;VALUE=DATE:19981006
DTEND;VALUE=DATE:19981007
TRANSP:TRANSPARENT
X-MICROSOFT-CDO-ALLDAYEVENT:TRUE
SUMMARY:Early Bird Breakfast
DESCRIPTION:The Small Business Committee will present the Small Business Person of the Year Award.  This award honors a small business owner/operator in the Holland area for success in his/her field of endeavor\, efforts to provide employment in the greater Holland area\, response to adversity\, and contributions to the general betterment of the community.\n\nSponsor:  Robert W. Baird & Co.\nCost:         $8.75
X-ALT-DESC;FMTTYPE=text/html:The Small Business Committee will present the Small Business Person of the Year Award.  This award honors a small business owner/operator in the Holland area for success in his/her field of endeavor\, efforts to provide employment in the greater Holland area\, response to adversity\, and contributions to the general betterment of the community.\n\nSponsor:  Robert W. Baird & Co.\nCost:         $8.75
LOCATION:Hope College Maas Conference Center
UID:e.1887.136
SEQUENCE:3
DTSTAMP:20260421T214006Z
URL:http://events.westcoastchamber.org/events/details/early-bird-breakfast-10-06-1998-136
END:VEVENT

END:VCALENDAR
