BEGIN:VCALENDAR
VERSION:2.0
PRODID:-//ChamberMaster//Event Calendar 2.0//EN
METHOD:PUBLISH
X-PUBLISHED-TTL:P3D
REFRESH-INTERVAL:P3D
CALSCALE:GREGORIAN
BEGIN:VEVENT
DTSTART;VALUE=DATE:19990302
DTEND;VALUE=DATE:19990303
TRANSP:TRANSPARENT
X-MICROSOFT-CDO-ALLDAYEVENT:TRUE
SUMMARY:Early Bird Breakfast
DESCRIPTION:Workers Comp Claims in Michigan:  Past\, Present and Future.  Join us at the March Early Bird Breakfast to learn about the workers comp issues facing the future and the types of claims being presented.  \n\nThomas H. Cyper\, Attorney will share with us how there has been an evolution of less physical claims\, and more claims in other areas including:  **Harassment\, including sexual harassment\; **Violence in the workplace\; **Wrongful discharge\; **Employer retaliation for filing a workers compensation claim.  Tom has lectured at numerous seminars and been a frequent speaker to the Michigan Chamber of Commerce.  Sponsor is Occupational Helath Center.  Cost is $10.00
X-ALT-DESC;FMTTYPE=text/html:Workers Comp Claims in Michigan:  Past\, Present and Future.  Join us at the March Early Bird Breakfast to learn about the workers comp issues facing the future and the types of claims being presented.  \n\nThomas H. Cyper\, Attorney will share with us how there has been an evolution of less physical claims\, and more claims in other areas including:  **Harassment\, including sexual harassment\; **Violence in the workplace\; **Wrongful discharge\; **Employer retaliation for filing a workers compensation claim.  Tom has lectured at numerous seminars and been a frequent speaker to the Michigan Chamber of Commerce.  Sponsor is Occupational Helath Center.  Cost is $10.00
LOCATION:Hope College Maas Center
UID:e.1887.227
SEQUENCE:3
DTSTAMP:20260421T151353Z
URL:http://events.westcoastchamber.org/events/details/early-bird-breakfast-03-02-1999-227
END:VEVENT

END:VCALENDAR
