BEGIN:VCALENDAR
VERSION:2.0
PRODID:-//ChamberMaster//Event Calendar 2.0//EN
METHOD:PUBLISH
X-PUBLISHED-TTL:P3D
REFRESH-INTERVAL:P3D
CALSCALE:GREGORIAN
BEGIN:VEVENT
DTSTART;VALUE=DATE:19990105
DTEND;VALUE=DATE:19990106
TRANSP:TRANSPARENT
X-MICROSOFT-CDO-ALLDAYEVENT:TRUE
SUMMARY:Early Bird Breakfast
DESCRIPTION:State of the Region - The January Early Bird Breakfast will feature a panel of our area elected officials from the City olf Holland\, Holland Charter Township and Park Township.  We will hear updates from each representative and will have the opportunity to ask questions about the progress we have made over the past year.  We will also find out what's in store for the Holland area in 1999.  Find out the answer to questions such as: ** Where is the public transportation headed?  **Will there ever be an area center that the people will have a change to vote on?  **What is the status of Windmill Island?  **What is the plan for the continued growth in the area?  **How prepared are the city and townships for the Year 2000?  The sponsor is Evergreen Commons.  Cost is $10.00.
X-ALT-DESC;FMTTYPE=text/html:State of the Region - The January Early Bird Breakfast will feature a panel of our area elected officials from the City olf Holland\, Holland Charter Township and Park Township.  We will hear updates from each representative and will have the opportunity to ask questions about the progress we have made over the past year.  We will also find out what's in store for the Holland area in 1999.  Find out the answer to questions such as: ** Where is the public transportation headed?  **Will there ever be an area center that the people will have a change to vote on?  **What is the status of Windmill Island?  **What is the plan for the continued growth in the area?  **How prepared are the city and townships for the Year 2000?  The sponsor is Evergreen Commons.  Cost is $10.00.
LOCATION:Hope College Maas Center
UID:e.1887.225
SEQUENCE:3
DTSTAMP:20260421T175311Z
URL:http://events.westcoastchamber.org/events/details/early-bird-breakfast-01-05-1999-225
END:VEVENT

END:VCALENDAR
