BEGIN:VCALENDAR
VERSION:2.0
PRODID:-//ChamberMaster//Event Calendar 2.0//EN
METHOD:PUBLISH
X-PUBLISHED-TTL:P3D
REFRESH-INTERVAL:P3D
CALSCALE:GREGORIAN
BEGIN:VEVENT
DTSTART;VALUE=DATE:19970401
DTEND;VALUE=DATE:19970402
TRANSP:TRANSPARENT
X-MICROSOFT-CDO-ALLDAYEVENT:TRUE
SUMMARY:Early Bird Breakast-4/1/97
DESCRIPTION:
X-ALT-DESC;FMTTYPE=text/html:
LOCATION:Hope College
UID:e.1887.2
SEQUENCE:3
DTSTAMP:20260424T130035Z
URL:http://events.westcoastchamber.org/events/details/early-bird-breakast-4-1-97-04-01-1997-2
END:VEVENT

END:VCALENDAR
