BEGIN:VCALENDAR
VERSION:2.0
PRODID:-//ChamberMaster//Event Calendar 2.0//EN
METHOD:PUBLISH
X-PUBLISHED-TTL:P3D
REFRESH-INTERVAL:P3D
CALSCALE:GREGORIAN
BEGIN:VEVENT
DTSTART;VALUE=DATE:19981127
DTEND;VALUE=DATE:19981221
TRANSP:TRANSPARENT
X-MICROSOFT-CDO-ALLDAYEVENT:TRUE
SUMMARY:Dutch WinterFest
DESCRIPTION:Return to a small town Christmas celebration that will create holiday memories for a lifetime!  Stroll warmed\, cobblestone siewalks in historic Downtown Holland\, enjoy the festive lights and share in our unique Dutch traditions such as Holiday Theater\, Hotel Packages\, Unique Shopping\, Special Festival Events\, Carriage Rides\, Home Tours and "Snow-Free" Streets.   For \ncomplete festival events listing call  616-394-0000 or 800-506-1299.
X-ALT-DESC;FMTTYPE=text/html:Return to a small town Christmas celebration that will create holiday memories for a lifetime!  Stroll warmed\, cobblestone siewalks in historic Downtown Holland\, enjoy the festive lights and share in our unique Dutch traditions such as Holiday Theater\, Hotel Packages\, Unique Shopping\, Special Festival Events\, Carriage Rides\, Home Tours and "Snow-Free" Streets.   For \ncomplete festival events listing call  616-394-0000 or 800-506-1299.
LOCATION:Downtown Holland
UID:e.1887.199
SEQUENCE:3
DTSTAMP:20260421T191337Z
URL:http://events.westcoastchamber.org/events/details/dutch-winterfest-11-27-1998-199
END:VEVENT

END:VCALENDAR
