BEGIN:VCALENDAR
VERSION:2.0
PRODID:-//ChamberMaster//Event Calendar 2.0//EN
METHOD:PUBLISH
X-PUBLISHED-TTL:P3D
REFRESH-INTERVAL:P3D
CALSCALE:GREGORIAN
BEGIN:VEVENT
DTSTART;VALUE=DATE:19980416
DTEND;VALUE=DATE:19980417
TRANSP:TRANSPARENT
X-MICROSOFT-CDO-ALLDAYEVENT:TRUE
SUMMARY:Customer Service Excellence - 4/16/98
DESCRIPTION:
X-ALT-DESC;FMTTYPE=text/html:
LOCATION:Davenport College
UID:e.1887.89
SEQUENCE:3
DTSTAMP:20260423T183017Z
URL:http://events.westcoastchamber.org/events/details/customer-service-excellence-4-16-98-04-16-1998-89
END:VEVENT

END:VCALENDAR
