BEGIN:VCALENDAR
VERSION:2.0
PRODID:-//ChamberMaster//Event Calendar 2.0//EN
METHOD:PUBLISH
X-PUBLISHED-TTL:P3D
REFRESH-INTERVAL:P3D
CALSCALE:GREGORIAN
BEGIN:VEVENT
DTSTART;VALUE=DATE:19990227
DTEND;VALUE=DATE:19990228
TRANSP:TRANSPARENT
X-MICROSOFT-CDO-ALLDAYEVENT:TRUE
SUMMARY:Collectors Chats: Kids & Their Collections
DESCRIPTION:Meet local collectors as they share stories about their objects & what sparked their enthusiasm for collecting.  Holland Museum - 616-392-9084.
X-ALT-DESC;FMTTYPE=text/html:Meet local collectors as they share stories about their objects & what sparked their enthusiasm for collecting.  Holland Museum - 616-392-9084.
LOCATION:Holland Museum
UID:e.1887.304
SEQUENCE:3
DTSTAMP:20260421T163659Z
URL:http://events.westcoastchamber.org/events/details/collectors-chats-kids-their-collections-02-27-1999-304
END:VEVENT

END:VCALENDAR
