BEGIN:VCALENDAR
VERSION:2.0
PRODID:-//ChamberMaster//Event Calendar 2.0//EN
METHOD:PUBLISH
X-PUBLISHED-TTL:P3D
REFRESH-INTERVAL:P3D
CALSCALE:GREGORIAN
BEGIN:VEVENT
DTSTART;VALUE=DATE:19990109
DTEND;VALUE=DATE:19990110
TRANSP:TRANSPARENT
X-MICROSOFT-CDO-ALLDAYEVENT:TRUE
SUMMARY:Collectors Chats: Kids & Their Collections
DESCRIPTION:Meet local collectors as they share stories about their objects and what sparked their enthusiasm for collecting.
X-ALT-DESC;FMTTYPE=text/html:Meet local collectors as they share stories about their objects and what sparked their enthusiasm for collecting.
LOCATION:Holland Museum
UID:e.1887.286
SEQUENCE:3
DTSTAMP:20260421T175756Z
URL:http://events.westcoastchamber.org/events/details/collectors-chats-kids-their-collections-01-09-1999-286
END:VEVENT

END:VCALENDAR
