BEGIN:VCALENDAR
VERSION:2.0
PRODID:-//ChamberMaster//Event Calendar 2.0//EN
METHOD:PUBLISH
X-PUBLISHED-TTL:P3D
REFRESH-INTERVAL:P3D
CALSCALE:GREGORIAN
BEGIN:VEVENT
DTSTART;VALUE=DATE:19981208
DTEND;VALUE=DATE:19981209
TRANSP:TRANSPARENT
X-MICROSOFT-CDO-ALLDAYEVENT:TRUE
SUMMARY:Christmas Fun Night
DESCRIPTION:Carnival games and lots of fun for the kids!  Sponsored by Holland Police Dept. & Holland Public Schools.  For more information call 616-355-1050.
X-ALT-DESC;FMTTYPE=text/html:Carnival games and lots of fun for the kids!  Sponsored by Holland Police Dept. & Holland Public Schools.  For more information call 616-355-1050.
LOCATION:Holland Civic Center
UID:e.1887.204
SEQUENCE:3
DTSTAMP:20260421T190809Z
URL:http://events.westcoastchamber.org/events/details/christmas-fun-night-12-08-1998-204
END:VEVENT

END:VCALENDAR
