BEGIN:VCALENDAR
VERSION:2.0
PRODID:-//ChamberMaster//Event Calendar 2.0//EN
METHOD:PUBLISH
X-PUBLISHED-TTL:P3D
REFRESH-INTERVAL:P3D
CALSCALE:GREGORIAN
BEGIN:VEVENT
DTSTART;VALUE=DATE:19981225
DTEND;VALUE=DATE:19981226
TRANSP:TRANSPARENT
X-MICROSOFT-CDO-ALLDAYEVENT:TRUE
SUMMARY:Christmas Day
DESCRIPTION:Our office wishes you a Merry Christmas!
X-ALT-DESC;FMTTYPE=text/html:Our office wishes you a Merry Christmas!
LOCATION:
UID:e.1887.277
SEQUENCE:3
DTSTAMP:20260421T190813Z
URL:http://events.westcoastchamber.org/events/details/christmas-day-12-25-1998-277
END:VEVENT

END:VCALENDAR
