BEGIN:VCALENDAR
VERSION:2.0
PRODID:-//ChamberMaster//Event Calendar 2.0//EN
METHOD:PUBLISH
X-PUBLISHED-TTL:P3D
REFRESH-INTERVAL:P3D
CALSCALE:GREGORIAN
BEGIN:VEVENT
DTSTART;VALUE=DATE:19981212
DTEND;VALUE=DATE:19981213
TRANSP:TRANSPARENT
X-MICROSOFT-CDO-ALLDAYEVENT:TRUE
SUMMARY:Christmas Celebration Concert
DESCRIPTION:Holland Area Youth Chorale and Chamber Orchestra join the Holland Chorale for a holiday celebration.  Tickets available at the Holland Area Visitors Bureau.  800-506-1299 or 616-394-0000.
X-ALT-DESC;FMTTYPE=text/html:Holland Area Youth Chorale and Chamber Orchestra join the Holland Chorale for a holiday celebration.  Tickets available at the Holland Area Visitors Bureau.  800-506-1299 or 616-394-0000.
LOCATION:Hope College Dimnent Chapel
UID:e.1887.208
SEQUENCE:3
DTSTAMP:20260421T191435Z
URL:http://events.westcoastchamber.org/events/details/christmas-celebration-concert-12-12-1998-208
END:VEVENT

END:VCALENDAR
