BEGIN:VCALENDAR
VERSION:2.0
PRODID:-//ChamberMaster//Event Calendar 2.0//EN
METHOD:PUBLISH
X-PUBLISHED-TTL:P3D
REFRESH-INTERVAL:P3D
CALSCALE:GREGORIAN
BEGIN:VEVENT
DTSTART;VALUE=DATE:19980924
DTEND;VALUE=DATE:19980925
TRANSP:TRANSPARENT
X-MICROSOFT-CDO-ALLDAYEVENT:TRUE
SUMMARY:Chamber Annual Dinner
DESCRIPTION:This year's Annual Dinner will feature great food\, prestigious awards\, and a wonderful opportunity to network with 500+ Chamber members\, as well as Dr. John R. Powers who will present: Laughing All the Way to the Bank.  Both the Distinguished Service Award and the Athena Award will be presented.                     \nReception starting at 6:00 p.m. with dinner following at 7:00 p.m.
X-ALT-DESC;FMTTYPE=text/html:This year's Annual Dinner will feature great food\, prestigious awards\, and a wonderful opportunity to network with 500+ Chamber members\, as well as Dr. John R. Powers who will present: Laughing All the Way to the Bank.  Both the Distinguished Service Award and the Athena Award will be presented.                     \nReception starting at 6:00 p.m. with dinner following at 7:00 p.m.                         \n
LOCATION:Evergreen Commons
UID:e.1887.135
SEQUENCE:3
DTSTAMP:20260423T115906Z
URL:http://events.westcoastchamber.org/events/details/chamber-annual-dinner-09-24-1998-135
END:VEVENT

END:VCALENDAR
