BEGIN:VCALENDAR
VERSION:2.0
PRODID:-//ChamberMaster//Event Calendar 2.0//EN
METHOD:PUBLISH
X-PUBLISHED-TTL:P3D
REFRESH-INTERVAL:P3D
CALSCALE:GREGORIAN
BEGIN:VEVENT
DTSTART;VALUE=DATE:19981020
DTEND;VALUE=DATE:19981021
TRANSP:TRANSPARENT
X-MICROSOFT-CDO-ALLDAYEVENT:TRUE
SUMMARY:Business to Business Showcase
DESCRIPTION:The 1998 Business to Business Showcase is an opportunity for Holland Chamber members to exhibit and promote their products and services.  Don't miss this chance to get an inside look at 72 area service providers.  \n\nThere is no charge for this event.
X-ALT-DESC;FMTTYPE=text/html:The 1998 Business to Business Showcase is an opportunity for Holland Chamber members to exhibit and promote their products and services.  Don't miss this chance to get an inside look at 72 area service providers.  \n\nThere is no charge for this event.
LOCATION:Holiday Inn
UID:e.1887.140
SEQUENCE:3
DTSTAMP:20260421T214802Z
URL:http://events.westcoastchamber.org/events/details/business-to-business-showcase-10-20-1998-140
END:VEVENT

END:VCALENDAR
