BEGIN:VCALENDAR
VERSION:2.0
PRODID:-//ChamberMaster//Event Calendar 2.0//EN
METHOD:PUBLISH
X-PUBLISHED-TTL:P3D
REFRESH-INTERVAL:P3D
CALSCALE:GREGORIAN
BEGIN:VEVENT
DTSTART;VALUE=DATE:19981008
DTEND;VALUE=DATE:19981009
TRANSP:TRANSPARENT
X-MICROSOFT-CDO-ALLDAYEVENT:TRUE
SUMMARY:''Business After Hours!''...Grand Event Mall
DESCRIPTION:Grand Event Mall is a unique "one-stop shopping" for all your corporate and personal events...a 600 person banquet hall can be tailored to accommodate trade shows\, meetings\, corporate dinners\, reunions\, parties and receptions.\n\nCome to this special "spotlight" to meet the shop owners\, enjoy tasting the food from a variety of caterers while listening to music in the banquet hall.\nThis event is FREE.
X-ALT-DESC;FMTTYPE=text/html:Grand Event Mall is a unique "one-stop shopping" for all your corporate and personal events...a 600 person banquet hall can be tailored to accommodate trade shows\, meetings\, corporate dinners\, reunions\, parties and receptions.\n\nCome to this special "spotlight" to meet the shop owners\, enjoy tasting the food from a variety of caterers while listening to music in the banquet hall.\nThis event is FREE.
LOCATION:1006 S Washington Ave
UID:e.1887.141
SEQUENCE:3
DTSTAMP:20260421T214115Z
URL:http://events.westcoastchamber.org/events/details/business-after-hours-grand-event-mall-10-08-1998-141
END:VEVENT

END:VCALENDAR
