BEGIN:VCALENDAR
VERSION:2.0
PRODID:-//ChamberMaster//Event Calendar 2.0//EN
METHOD:PUBLISH
X-PUBLISHED-TTL:P3D
REFRESH-INTERVAL:P3D
CALSCALE:GREGORIAN
BEGIN:VEVENT
DTSTART;VALUE=DATE:19970909
DTEND;VALUE=DATE:19970910
TRANSP:TRANSPARENT
X-MICROSOFT-CDO-ALLDAYEVENT:TRUE
SUMMARY:Business After Hours-9/9/97
DESCRIPTION:
X-ALT-DESC;FMTTYPE=text/html:
LOCATION:Lighthouse Keuning Insurance
UID:e.1887.35
SEQUENCE:3
DTSTAMP:20260424T053128Z
URL:http://events.westcoastchamber.org/events/details/business-after-hours-9-9-97-09-09-1997-35
END:VEVENT

END:VCALENDAR
