BEGIN:VCALENDAR
VERSION:2.0
PRODID:-//ChamberMaster//Event Calendar 2.0//EN
METHOD:PUBLISH
X-PUBLISHED-TTL:P3D
REFRESH-INTERVAL:P3D
CALSCALE:GREGORIAN
BEGIN:VEVENT
DTSTART;VALUE=DATE:19970626
DTEND;VALUE=DATE:19970627
TRANSP:TRANSPARENT
X-MICROSOFT-CDO-ALLDAYEVENT:TRUE
SUMMARY:Business After Hours-6/26/97
DESCRIPTION:
X-ALT-DESC;FMTTYPE=text/html:
LOCATION:J.R. Automation Tech
UID:e.1887.25
SEQUENCE:3
DTSTAMP:20260424T101334Z
URL:http://events.westcoastchamber.org/events/details/business-after-hours-6-26-97-06-26-1997-25
END:VEVENT

END:VCALENDAR
