BEGIN:VCALENDAR
VERSION:2.0
PRODID:-//ChamberMaster//Event Calendar 2.0//EN
METHOD:PUBLISH
X-PUBLISHED-TTL:P3D
REFRESH-INTERVAL:P3D
CALSCALE:GREGORIAN
BEGIN:VEVENT
DTSTART;VALUE=DATE:19970522
DTEND;VALUE=DATE:19970523
TRANSP:TRANSPARENT
X-MICROSOFT-CDO-ALLDAYEVENT:TRUE
SUMMARY:Business After Hours-5/22/97
DESCRIPTION:
X-ALT-DESC;FMTTYPE=text/html:
LOCATION:Wuskowhan Players Club
UID:e.1887.18
SEQUENCE:3
DTSTAMP:20260424T114431Z
URL:http://events.westcoastchamber.org/events/details/business-after-hours-5-22-97-05-22-1997-18
END:VEVENT

END:VCALENDAR
