BEGIN:VCALENDAR
VERSION:2.0
PRODID:-//ChamberMaster//Event Calendar 2.0//EN
METHOD:PUBLISH
X-PUBLISHED-TTL:P3D
REFRESH-INTERVAL:P3D
CALSCALE:GREGORIAN
BEGIN:VEVENT
DTSTART;VALUE=DATE:19980521
DTEND;VALUE=DATE:19980522
TRANSP:TRANSPARENT
X-MICROSOFT-CDO-ALLDAYEVENT:TRUE
SUMMARY:Business After Hours-5/21/98
DESCRIPTION:
X-ALT-DESC;FMTTYPE=text/html:
LOCATION:
UID:e.1887.95
SEQUENCE:3
DTSTAMP:20260423T171936Z
URL:http://events.westcoastchamber.org/events/details/business-after-hours-5-21-98-05-21-1998-95
END:VEVENT

END:VCALENDAR
