BEGIN:VCALENDAR
VERSION:2.0
PRODID:-//ChamberMaster//Event Calendar 2.0//EN
METHOD:PUBLISH
X-PUBLISHED-TTL:P3D
REFRESH-INTERVAL:P3D
CALSCALE:GREGORIAN
BEGIN:VEVENT
DTSTART;VALUE=DATE:19981210
DTEND;VALUE=DATE:19981211
TRANSP:TRANSPARENT
X-MICROSOFT-CDO-ALLDAYEVENT:TRUE
SUMMARY:''Business After Hours!''
DESCRIPTION:Start your holiday season off with a cheering adventure at The Edge.  The Edge is West Michigan's Premier Skating Facility.  Ice Skating at its finest! Network with fellow Chamber members while you enjoy food and beverages.  Bring the whole family to tour this new facility.  (No public skating will be allowed at the event\, but come back and join us soon!)  Join us for tours of the facility\, munchies\, door prizes\, entertainment and more!\n\nThis event is free.
X-ALT-DESC;FMTTYPE=text/html:Start your holiday season off with a cheering adventure at The Edge.  The Edge is West Michigan's Premier Skating Facility.  Ice Skating at its finest! Network with fellow Chamber members while you enjoy food and beverages.  Bring the whole family to tour this new facility.  (No public skating will be allowed at the event\, but come back and join us soon!)  Join us for tours of the facility\, munchies\, door prizes\, entertainment and more!\n\nThis event is free.\n
LOCATION:The Edge
UID:e.1887.162
SEQUENCE:3
DTSTAMP:20260421T191140Z
URL:http://events.westcoastchamber.org/events/details/business-after-hours-12-10-1998-162
END:VEVENT

END:VCALENDAR
