BEGIN:VCALENDAR
VERSION:2.0
PRODID:-//ChamberMaster//Event Calendar 2.0//EN
METHOD:PUBLISH
X-PUBLISHED-TTL:P3D
REFRESH-INTERVAL:P3D
CALSCALE:GREGORIAN
BEGIN:VEVENT
DTSTART;VALUE=DATE:19981119
DTEND;VALUE=DATE:19981120
TRANSP:TRANSPARENT
X-MICROSOFT-CDO-ALLDAYEVENT:TRUE
SUMMARY:''Business After Hours!''
DESCRIPTION:Sponsored by Blue Cross/Blue Shield of Michigan.  For this November Business After Hours\, they have adopted a Fall Harvest/Thanksgiving theme.  This theme of giving thanks will illustrate the Blue's continued commitment to the lakeshore area with its increased presence in Holland.\n\nYou are invited to tour their new space at 259 Hoover Blvd\, Ste 160 and enjoy "heart smart" hors d'oeuvres presented in a fall havest theme. \n\nNetwork with fellow Chamber members while you enjoy food and beverages. \nThis event is free.
X-ALT-DESC;FMTTYPE=text/html:Sponsored by Blue Cross/Blue Shield of Michigan.  For this November Business After Hours\, they have adopted a Fall Harvest/Thanksgiving theme.  This theme of giving thanks will illustrate the Blue's continued commitment to the lakeshore area with its increased presence in Holland.\n\nYou are invited to tour their new space at 259 Hoover Blvd\, Ste 160 and enjoy "heart smart" hors d'oeuvres presented in a fall havest theme. \n\nNetwork with fellow Chamber members while you enjoy food and beverages. \nThis event is free.
LOCATION:Blue Cross/Blue Shield of Michigan
UID:e.1887.159
SEQUENCE:3
DTSTAMP:20260421T202935Z
URL:http://events.westcoastchamber.org/events/details/business-after-hours-11-19-1998-159
END:VEVENT

END:VCALENDAR
