BEGIN:VCALENDAR
VERSION:2.0
PRODID:-//ChamberMaster//Event Calendar 2.0//EN
METHOD:PUBLISH
X-PUBLISHED-TTL:P3D
REFRESH-INTERVAL:P3D
CALSCALE:GREGORIAN
BEGIN:VEVENT
DTSTART;VALUE=DATE:19981020
DTEND;VALUE=DATE:19981021
TRANSP:TRANSPARENT
X-MICROSOFT-CDO-ALLDAYEVENT:TRUE
SUMMARY:''Business After Hours!''
DESCRIPTION:Join us for this special "Business After Hours!" at the 1998 Business to Business Showcase.\n\nEnjoy hors d'oeuvres and a cash bar as you tour over 70 exhibits by Holland Chamber member firms.\n\nThis event is FREE.
X-ALT-DESC;FMTTYPE=text/html:Join us for this special "Business After Hours!" at the 1998 Business to Business Showcase.\n\nEnjoy hors d'oeuvres and a cash bar as you tour over 70 exhibits by Holland Chamber member firms.\n\nThis event is FREE.
LOCATION:Holiday Inn - Holland
UID:e.1887.153
SEQUENCE:3
DTSTAMP:20260421T213640Z
URL:http://events.westcoastchamber.org/events/details/business-after-hours-10-20-1998-153
END:VEVENT

END:VCALENDAR
