BEGIN:VCALENDAR
VERSION:2.0
PRODID:-//ChamberMaster//Event Calendar 2.0//EN
METHOD:PUBLISH
X-PUBLISHED-TTL:P3D
REFRESH-INTERVAL:P3D
CALSCALE:GREGORIAN
BEGIN:VEVENT
DTSTART;VALUE=DATE:19990325
DTEND;VALUE=DATE:19990326
TRANSP:TRANSPARENT
X-MICROSOFT-CDO-ALLDAYEVENT:TRUE
SUMMARY:''Business After Hours!''
DESCRIPTION:Hydro Raufoss Automotive is a part of the light metals business area of Norsk Hydro\, a $14 billion company listed on the New York Stock Exchange.  The company is aggresively pursuing leadership in the global automotive market with a clear strategy in North America.  Learn how their business effects the local economy.  See Product Displays.  Tour the Plant.  Enjoy Hors d'oeuvres and Refreshments.  Win Door Prizes.  Network with fellow Chamber members.  This event is free.
X-ALT-DESC;FMTTYPE=text/html:Hydro Raufoss Automotive is a part of the light metals business area of Norsk Hydro\, a $14 billion company listed on the New York Stock Exchange.  The company is aggresively pursuing leadership in the global automotive market with a clear strategy in North America.  Learn how their business effects the local economy.  See Product Displays.  Tour the Plant.  Enjoy Hors d'oeuvres and Refreshments.  Win Door Prizes.  Network with fellow Chamber members.  This event is free.
LOCATION:Hydro Raufoss - 365 West 24th Street
UID:e.1887.258
SEQUENCE:3
DTSTAMP:20260421T151541Z
URL:http://events.westcoastchamber.org/events/details/business-after-hours-03-25-1999-258
END:VEVENT

END:VCALENDAR
