BEGIN:VCALENDAR
VERSION:2.0
PRODID:-//ChamberMaster//Event Calendar 2.0//EN
METHOD:PUBLISH
X-PUBLISHED-TTL:P3D
REFRESH-INTERVAL:P3D
CALSCALE:GREGORIAN
BEGIN:VEVENT
DTSTART;VALUE=DATE:19990225
DTEND;VALUE=DATE:19990226
TRANSP:TRANSPARENT
X-MICROSOFT-CDO-ALLDAYEVENT:TRUE
SUMMARY:''Business After Hours!''
DESCRIPTION:Join us for an overview of the company that has been in business since 1910 manufacturing components for the heavy trucking and trailer industry which include:  Fifth Wheels\, Landing Gear\, Pintle Hooks\, Tow Bars\, King Pins\, Axels\, and Truck Suspensions.  See a short video on this company that employees about 2\,200 worldwide.  Tour the Corporate office.  Enjoy Refreshments.  Win Door Prizes.  Network with fellow Chamber members.  This event is free.
X-ALT-DESC;FMTTYPE=text/html:Join us for an overview of the company that has been in business since 1910 manufacturing components for the heavy trucking and trailer industry which include:  Fifth Wheels\, Landing Gear\, Pintle Hooks\, Tow Bars\, King Pins\, Axels\, and Truck Suspensions.  See a short video on this company that employees about 2\,200 worldwide.  Tour the Corporate office.  Enjoy Refreshments.  Win Door Prizes.  Network with fellow Chamber members.  This event is free.
LOCATION:Holland Hitch - 467 Ottawa Avenue
UID:e.1887.257
SEQUENCE:3
DTSTAMP:20260421T163232Z
URL:http://events.westcoastchamber.org/events/details/business-after-hours-02-25-1999-257
END:VEVENT

END:VCALENDAR
