BEGIN:VCALENDAR
VERSION:2.0
PRODID:-//ChamberMaster//Event Calendar 2.0//EN
METHOD:PUBLISH
X-PUBLISHED-TTL:P3D
REFRESH-INTERVAL:P3D
CALSCALE:GREGORIAN
BEGIN:VEVENT
DTSTART;VALUE=DATE:19990227
DTEND;VALUE=DATE:19990228
TRANSP:TRANSPARENT
X-MICROSOFT-CDO-ALLDAYEVENT:TRUE
SUMMARY:Build a Bird House
DESCRIPTION:We will have precut bird houses for assembly.  Make it for bluebird/tree swallow or for house wren chickadee!  Ideal for young children with an adult or teen helper.  $6 per house.  Please call DeGraaf Nature Center to register - 616-355-1057.
X-ALT-DESC;FMTTYPE=text/html:We will have precut bird houses for assembly.  Make it for bluebird/tree swallow or for house wren chickadee!  Ideal for young children with an adult or teen helper.  $6 per house.  Please call DeGraaf Nature Center to register - 616-355-1057.
LOCATION:DeGraaf Nature Center
UID:e.1887.306
SEQUENCE:3
DTSTAMP:20260421T163348Z
URL:http://events.westcoastchamber.org/events/details/build-a-bird-house-02-27-1999-306
END:VEVENT

END:VCALENDAR
