BEGIN:VCALENDAR
VERSION:2.0
PRODID:-//ChamberMaster//Event Calendar 2.0//EN
METHOD:PUBLISH
X-PUBLISHED-TTL:P3D
REFRESH-INTERVAL:P3D
CALSCALE:GREGORIAN
BEGIN:VEVENT
DTSTART;VALUE=DATE:19980319
DTEND;VALUE=DATE:19980320
TRANSP:TRANSPARENT
X-MICROSOFT-CDO-ALLDAYEVENT:TRUE
SUMMARY:Benefits and Challenges of Using the Internet - 3/19/98
DESCRIPTION:
X-ALT-DESC;FMTTYPE=text/html:
LOCATION:Davenport College
UID:e.1887.86
SEQUENCE:3
DTSTAMP:20260423T202744Z
URL:http://events.westcoastchamber.org/events/details/benefits-and-challenges-of-using-the-internet-3-19-98-03-19-1998-86
END:VEVENT

END:VCALENDAR
