BEGIN:VCALENDAR
VERSION:2.0
PRODID:-//ChamberMaster//Event Calendar 2.0//EN
METHOD:PUBLISH
X-PUBLISHED-TTL:P3D
REFRESH-INTERVAL:P3D
CALSCALE:GREGORIAN
BEGIN:VEVENT
DTSTART;VALUE=DATE:19990123
DTEND;VALUE=DATE:19990124
TRANSP:TRANSPARENT
X-MICROSOFT-CDO-ALLDAYEVENT:TRUE
SUMMARY:Beginning Cross-country Ski Lessons
DESCRIPTION:Teens and adults at 2:00 p.m.  An introductory cross-country ski lesson.  Cost is $5 for 1 1/2 hr. lesson.  $5 for equipment rental if needed.  Class sizes limited.  Call to register - 616-355-1057.
X-ALT-DESC;FMTTYPE=text/html:Teens and adults at 2:00 p.m.  An introductory cross-country ski lesson.  Cost is $5 for 1 1/2 hr. lesson.  $5 for equipment rental if needed.  Class sizes limited.  Call to register - 616-355-1057.
LOCATION:DeGraaf Nature Center
UID:e.1887.293
SEQUENCE:3
DTSTAMP:20260421T175519Z
URL:http://events.westcoastchamber.org/events/details/beginning-cross-country-ski-lessons-01-23-1999-293
END:VEVENT

END:VCALENDAR
