BEGIN:VCALENDAR
VERSION:2.0
PRODID:-//ChamberMaster//Event Calendar 2.0//EN
METHOD:PUBLISH
X-PUBLISHED-TTL:P3D
REFRESH-INTERVAL:P3D
CALSCALE:GREGORIAN
BEGIN:VEVENT
DTSTART;VALUE=DATE:19990112
DTEND;VALUE=DATE:19990113
TRANSP:TRANSPARENT
X-MICROSOFT-CDO-ALLDAYEVENT:TRUE
SUMMARY:All Committee Meeting
DESCRIPTION:Become a volunteer on a Chamber committee - implement programs that have a direct impact on our community and address the needs of your buisness.  Choose from the following committees:  Ambassador\, Meetings\, Retail/Tourism\, Healthy Workforce\, Safe Community\, Small Business\, Environment & Infrastructure\, Education.  Sponsor is Semco Energy\, Inc.  Cost is $3.00.
X-ALT-DESC;FMTTYPE=text/html:Become a volunteer on a Chamber committee - implement programs that have a direct impact on our community and address the needs of your buisness.  Choose from the following committees:  Ambassador\, Meetings\, Retail/Tourism\, Healthy Workforce\, Safe Community\, Small Business\, Environment & Infrastructure\, Education.  Sponsor is Semco Energy\, Inc.  Cost is $3.00.
LOCATION:Holiday Inn
UID:e.1887.232
SEQUENCE:3
DTSTAMP:20260421T175538Z
URL:http://events.westcoastchamber.org/events/details/all-committee-meeting-01-12-1999-232
END:VEVENT

END:VCALENDAR
