BEGIN:VCALENDAR
VERSION:2.0
PRODID:-//ChamberMaster//Event Calendar 2.0//EN
METHOD:PUBLISH
X-PUBLISHED-TTL:P3D
REFRESH-INTERVAL:P3D
CALSCALE:GREGORIAN
BEGIN:VEVENT
DTSTART;VALUE=DATE:19971209
DTEND;VALUE=DATE:19971210
TRANSP:TRANSPARENT
X-MICROSOFT-CDO-ALLDAYEVENT:TRUE
SUMMARY:All Committee Breakfast-12/9/97
DESCRIPTION:
X-ALT-DESC;FMTTYPE=text/html:
LOCATION:Holiday Inn
UID:e.1887.60
SEQUENCE:3
DTSTAMP:20260424T005119Z
URL:http://events.westcoastchamber.org/events/details/all-committee-breakfast-12-9-97-12-09-1997-60
END:VEVENT

END:VCALENDAR
