BEGIN:VCALENDAR
VERSION:2.0
PRODID:-//ChamberMaster//Event Calendar 2.0//EN
METHOD:PUBLISH
X-PUBLISHED-TTL:P3D
REFRESH-INTERVAL:P3D
CALSCALE:GREGORIAN
BEGIN:VEVENT
DTSTART;VALUE=DATE:19981208
DTEND;VALUE=DATE:19981209
TRANSP:TRANSPARENT
X-MICROSOFT-CDO-ALLDAYEVENT:TRUE
SUMMARY:All Committee Breakfast
DESCRIPTION:Become a volunteer on a Chamber committee--implement programs that have a direct impact on our community and address the needs of your business.  Choose from the following committees: Ambassador\, Meetings\, Area Retail\, Healthy Workforce\, Safe Community\, Small Business\, Environment & Infrastructure\, Education.  Cost is $3.00
X-ALT-DESC;FMTTYPE=text/html:Become a volunteer on a Chamber committee--implement programs that have a direct impact on our community and address the needs of your business.  Choose from the following committees: Ambassador\, Meetings\, Area Retail\, Healthy Workforce\, Safe Community\, Small Business\, Environment & Infrastructure\, Education.  Cost is $3.00
LOCATION:Holiday Inn - Holland
UID:e.1887.161
SEQUENCE:3
DTSTAMP:20260421T191142Z
URL:http://events.westcoastchamber.org/events/details/all-committee-breakfast-12-08-1998-161
END:VEVENT

END:VCALENDAR
