BEGIN:VCALENDAR
VERSION:2.0
PRODID:-//ChamberMaster//Event Calendar 2.0//EN
METHOD:PUBLISH
X-PUBLISHED-TTL:P3D
REFRESH-INTERVAL:P3D
CALSCALE:GREGORIAN
BEGIN:VEVENT
DTSTART;VALUE=DATE:19981110
DTEND;VALUE=DATE:19981111
TRANSP:TRANSPARENT
X-MICROSOFT-CDO-ALLDAYEVENT:TRUE
SUMMARY:All Committee Breakfast
DESCRIPTION:Become a volunteer on a Chamber committee--implement programs that have a direct impact on our community and address the needs of your business.  Choose from the following committees: Ambassador\, Meetings\, Area Retail\, Healthy Workforce\, Safe Community\, Small Business\, Environmental & Infrastructure\, Education.  \n\nSponsored by SEMCO Energy\, Inc.\n\nCost: $3.00  Registrations welcomed.
X-ALT-DESC;FMTTYPE=text/html:Become a volunteer on a Chamber committee--implement programs that have a direct impact on our community and address the needs of your business.  Choose from the following committees: Ambassador\, Meetings\, Area Retail\, Healthy Workforce\, Safe Community\, Small Business\, Environmental & Infrastructure\, Education.  \n\nSponsored by SEMCO Energy\, Inc.\n\nCost: $3.00  Registrations welcomed.
LOCATION:Holiday Inn
UID:e.1887.167
SEQUENCE:3
DTSTAMP:20260421T202229Z
URL:http://events.westcoastchamber.org/events/details/all-committee-breakfast-11-10-1998-167
END:VEVENT

END:VCALENDAR
