BEGIN:VCALENDAR
VERSION:2.0
PRODID:-//ChamberMaster//Event Calendar 2.0//EN
METHOD:PUBLISH
X-PUBLISHED-TTL:P3D
REFRESH-INTERVAL:P3D
CALSCALE:GREGORIAN
BEGIN:VEVENT
DTSTART;VALUE=DATE:19971014
DTEND;VALUE=DATE:19971015
TRANSP:TRANSPARENT
X-MICROSOFT-CDO-ALLDAYEVENT:TRUE
SUMMARY:All Committee Breakast-10/14/97
DESCRIPTION:
X-ALT-DESC;FMTTYPE=text/html:
LOCATION:Holiday Inn
UID:e.1887.44
SEQUENCE:3
DTSTAMP:20260424T040243Z
URL:http://events.westcoastchamber.org/events/details/all-committee-breakast-10-14-97-10-14-1997-44
END:VEVENT

END:VCALENDAR
