BEGIN:VCALENDAR
VERSION:2.0
PRODID:-//ChamberMaster//Event Calendar 2.0//EN
METHOD:PUBLISH
X-PUBLISHED-TTL:P3D
REFRESH-INTERVAL:P3D
CALSCALE:GREGORIAN
BEGIN:VEVENT
DTSTART;VALUE=DATE:19970911
DTEND;VALUE=DATE:19970912
TRANSP:TRANSPARENT
X-MICROSOFT-CDO-ALLDAYEVENT:TRUE
SUMMARY:1997 Showcase Breakfast-9/11/97
DESCRIPTION:
X-ALT-DESC;FMTTYPE=text/html:
LOCATION:AlpenRose
UID:e.1887.30
SEQUENCE:3
DTSTAMP:20260424T051811Z
URL:http://events.westcoastchamber.org/events/details/1997-showcase-breakfast-9-11-97-09-11-1997-30
END:VEVENT

END:VCALENDAR
