BEGIN:VCALENDAR
VERSION:2.0
PRODID:-//ChamberMaster//Event Calendar 2.0//EN
METHOD:PUBLISH
X-PUBLISHED-TTL:P3D
REFRESH-INTERVAL:P3D
CALSCALE:GREGORIAN
BEGIN:VEVENT
DTSTART;VALUE=DATE:19970903
DTEND;VALUE=DATE:19970904
TRANSP:TRANSPARENT
X-MICROSOFT-CDO-ALLDAYEVENT:TRUE
SUMMARY:1997 Retreat Golf Prize
DESCRIPTION:
X-ALT-DESC;FMTTYPE=text/html:
LOCATION:
UID:e.1887.32
SEQUENCE:3
DTSTAMP:20260424T053214Z
URL:http://events.westcoastchamber.org/events/details/1997-retreat-golf-prize-09-03-1997-32
END:VEVENT

END:VCALENDAR
