BEGIN:VCALENDAR
VERSION:2.0
PRODID:-//ChamberMaster//Event Calendar 2.0//EN
METHOD:PUBLISH
X-PUBLISHED-TTL:P3D
REFRESH-INTERVAL:P3D
CALSCALE:GREGORIAN
BEGIN:VEVENT
DTSTART;VALUE=DATE:19971028
DTEND;VALUE=DATE:19971029
TRANSP:TRANSPARENT
X-MICROSOFT-CDO-ALLDAYEVENT:TRUE
SUMMARY:1997 Busines To Business Showcase
DESCRIPTION:
X-ALT-DESC;FMTTYPE=text/html:
LOCATION:Holiday Inn Ballroom
UID:e.1887.26
SEQUENCE:3
DTSTAMP:20260424T040500Z
URL:http://events.westcoastchamber.org/events/details/1997-busines-to-business-showcase-10-28-1997-26
END:VEVENT

END:VCALENDAR
