BEGIN:VCALENDAR
VERSION:2.0
PRODID:-//ChamberMaster//Event Calendar 2.0//EN
METHOD:PUBLISH
X-PUBLISHED-TTL:P3D
REFRESH-INTERVAL:P3D
CALSCALE:GREGORIAN
BEGIN:VEVENT
DTSTART;VALUE=DATE:19970925
DTEND;VALUE=DATE:19970926
TRANSP:TRANSPARENT
X-MICROSOFT-CDO-ALLDAYEVENT:TRUE
SUMMARY:1997 Annual Dinner
DESCRIPTION:
X-ALT-DESC;FMTTYPE=text/html:
LOCATION:Evergreen Commons
UID:e.1887.39
SEQUENCE:3
DTSTAMP:20260424T052427Z
URL:http://events.westcoastchamber.org/events/details/1997-annual-dinner-09-25-1997-39
END:VEVENT

END:VCALENDAR
